Package: RcisTarget.hg19.motifDBs.cisbpOnly.500bp Version: 1.28.0 Command: /home/biocbuild/bbs-3.21-bioc/R/bin/R CMD INSTALL RcisTarget.hg19.motifDBs.cisbpOnly.500bp StartedAt: 2025-10-16 10:56:06 -0400 (Thu, 16 Oct 2025) EndedAt: 2025-10-16 10:56:15 -0400 (Thu, 16 Oct 2025) EllapsedTime: 9.2 seconds RetCode: 0 Status: OK