Package: RegParallel Version: 1.26.0 Command: /home/biocbuild/bbs-3.21-bioc/R/bin/R CMD build --keep-empty-dirs --no-resave-data RegParallel StartedAt: 2025-07-10 11:34:26 -0400 (Thu, 10 Jul 2025) EndedAt: 2025-07-10 11:40:51 -0400 (Thu, 10 Jul 2025) EllapsedTime: 385.4 seconds RetCode: 0 Status: OK PackageFile: RegParallel_1.26.0.tar.gz PackageFileSize: 634.4 KiB