Package: STexampleData Version: 1.16.0 Command: /home/biocbuild/bbs-3.21-bioc/R/bin/R CMD build --keep-empty-dirs --no-resave-data STexampleData StartedAt: 2025-07-15 11:40:22 -0400 (Tue, 15 Jul 2025) EndedAt: 2025-07-15 11:42:00 -0400 (Tue, 15 Jul 2025) EllapsedTime: 98.3 seconds RetCode: 0 Status: OK PackageFile: STexampleData_1.16.0.tar.gz PackageFileSize: 235.5 KiB