Package: STexampleData Version: 1.16.0 Command: /home/biocbuild/bbs-3.21-bioc/R/bin/R CMD INSTALL STexampleData StartedAt: 2025-07-15 10:59:48 -0400 (Tue, 15 Jul 2025) EndedAt: 2025-07-15 11:00:17 -0400 (Tue, 15 Jul 2025) EllapsedTime: 29.3 seconds RetCode: 0 Status: OK