Package: SimBenchData Version: 1.16.0 Maintainer: Yue Cao MaintainerEmail: ycao6928 at uni.sydney.edu.au git_url: https://git.bioconductor.org/packages/SimBenchData git_branch: RELEASE_3_21 git_last_commit: 9961930 git_last_commit_date: 2025-04-15 10:16:12 -0400 (Tue, 15 Apr 2025)