Package: SimBenchData Version: 1.16.0 Command: /home/biocbuild/bbs-3.21-bioc/R/bin/R CMD build --keep-empty-dirs --no-resave-data SimBenchData StartedAt: 2025-07-10 11:39:13 -0400 (Thu, 10 Jul 2025) EndedAt: 2025-07-10 11:39:34 -0400 (Thu, 10 Jul 2025) EllapsedTime: 21.3 seconds RetCode: 0 Status: OK PackageFile: SimBenchData_1.16.0.tar.gz PackageFileSize: 236 KiB