Package: SimBenchData Version: 1.16.0 Command: /home/biocbuild/bbs-3.21-bioc/R/bin/R CMD INSTALL SimBenchData StartedAt: 2025-07-10 10:57:32 -0400 (Thu, 10 Jul 2025) EndedAt: 2025-07-10 10:57:45 -0400 (Thu, 10 Jul 2025) EllapsedTime: 13.5 seconds RetCode: 0 Status: OK