Package: Single.mTEC.Transcriptomes Version: 1.36.0 Command: /home/biocbuild/bbs-3.21-bioc/R/bin/R CMD build --keep-empty-dirs --no-resave-data Single.mTEC.Transcriptomes StartedAt: 2025-07-10 11:39:21 -0400 (Thu, 10 Jul 2025) EndedAt: 2025-07-10 11:45:19 -0400 (Thu, 10 Jul 2025) EllapsedTime: 357.5 seconds RetCode: 0 Status: OK PackageFile: Single.mTEC.Transcriptomes_1.36.0.tar.gz PackageFileSize: 904.6 MiB