Package: Single.mTEC.Transcriptomes Version: 1.36.0 Command: /home/biocbuild/bbs-3.21-bioc/R/bin/R CMD INSTALL Single.mTEC.Transcriptomes StartedAt: 2025-07-10 10:55:49 -0400 (Thu, 10 Jul 2025) EndedAt: 2025-07-10 10:55:59 -0400 (Thu, 10 Jul 2025) EllapsedTime: 10.1 seconds RetCode: 0 Status: OK