Package: SingleCellMultiModal Version: 1.20.0 Command: /home/biocbuild/bbs-3.21-bioc/R/bin/R CMD INSTALL SingleCellMultiModal StartedAt: 2025-07-10 11:00:09 -0400 (Thu, 10 Jul 2025) EndedAt: 2025-07-10 11:00:39 -0400 (Thu, 10 Jul 2025) EllapsedTime: 30.5 seconds RetCode: 0 Status: OK