Package: SomaticCancerAlterations Version: 1.44.0 Command: /home/biocbuild/bbs-3.21-bioc/R/bin/R CMD INSTALL SomaticCancerAlterations StartedAt: 2025-10-16 10:58:22 -0400 (Thu, 16 Oct 2025) EndedAt: 2025-10-16 10:58:30 -0400 (Thu, 16 Oct 2025) EllapsedTime: 8.2 seconds RetCode: 0 Status: OK