Package: SpatialDatasets Version: 1.6.3 Command: /home/biocbuild/bbs-3.21-bioc/R/bin/R CMD build --keep-empty-dirs --no-resave-data SpatialDatasets StartedAt: 2025-07-10 11:39:45 -0400 (Thu, 10 Jul 2025) EndedAt: 2025-07-10 11:57:54 -0400 (Thu, 10 Jul 2025) EllapsedTime: 1089.2 seconds RetCode: 0 Status: OK PackageFile: SpatialDatasets_1.6.3.tar.gz PackageFileSize: 227.8 KiB