Package: SpatialDatasets Version: 1.6.3 Command: /home/biocbuild/bbs-3.21-bioc/R/bin/R CMD check --install=check:SpatialDatasets.install-out.txt --library=/home/biocbuild/bbs-3.21-bioc/R/site-library --timings SpatialDatasets_1.6.3.tar.gz StartedAt: 2025-07-15 12:56:01 -0400 (Tue, 15 Jul 2025) EndedAt: 2025-07-15 13:17:59 -0400 (Tue, 15 Jul 2025) EllapsedTime: 1318.1 seconds RetCode: 0 Status: WARNINGS CheckDir: SpatialDatasets.Rcheck Warnings: 3