Package: SubcellularSpatialData Version: 1.4.0 Maintainer: Dharmesh D. Bhuva MaintainerEmail: dharmesh.bhuva at adelaide.edu.au git_url: https://git.bioconductor.org/packages/SubcellularSpatialData git_branch: RELEASE_3_21 git_last_commit: a82e3d0 git_last_commit_date: 2025-04-15 10:24:07 -0400 (Tue, 15 Apr 2025)