Package: SubcellularSpatialData Version: 1.4.0 Command: /home/biocbuild/bbs-3.21-bioc/R/bin/R CMD build --keep-empty-dirs --no-resave-data SubcellularSpatialData StartedAt: 2025-07-10 11:40:14 -0400 (Thu, 10 Jul 2025) EndedAt: 2025-07-10 11:41:18 -0400 (Thu, 10 Jul 2025) EllapsedTime: 64.8 seconds RetCode: 0 Status: OK PackageFile: SubcellularSpatialData_1.4.0.tar.gz PackageFileSize: 2.311 MiB