Package: SubcellularSpatialData Version: 1.4.0 Command: /home/biocbuild/bbs-3.21-bioc/R/bin/R CMD INSTALL SubcellularSpatialData StartedAt: 2025-07-10 11:03:23 -0400 (Thu, 10 Jul 2025) EndedAt: 2025-07-10 11:03:25 -0400 (Thu, 10 Jul 2025) EllapsedTime: 2.0 seconds RetCode: 0 Status: OK