Package: TCGAWorkflowData Version: 1.32.0 Maintainer: Tiago Chedraoui Silva MaintainerEmail: tiagochst at gmail.com git_url: https://git.bioconductor.org/packages/TCGAWorkflowData git_branch: RELEASE_3_21 git_last_commit: 9a3836c git_last_commit_date: 2025-04-15 10:09:35 -0400 (Tue, 15 Apr 2025)