Package: TCGAWorkflowData Version: 1.32.0 Command: /home/biocbuild/bbs-3.21-bioc/R/bin/R CMD build --keep-empty-dirs --no-resave-data TCGAWorkflowData StartedAt: 2025-07-15 11:41:50 -0400 (Tue, 15 Jul 2025) EndedAt: 2025-07-15 11:44:20 -0400 (Tue, 15 Jul 2025) EllapsedTime: 150.1 seconds RetCode: 0 Status: OK PackageFile: TCGAWorkflowData_1.32.0.tar.gz PackageFileSize: 68.83 MiB