Package: TCGAWorkflowData Version: 1.32.0 Command: /home/biocbuild/bbs-3.21-bioc/R/bin/R CMD INSTALL TCGAWorkflowData StartedAt: 2025-07-15 11:05:02 -0400 (Tue, 15 Jul 2025) EndedAt: 2025-07-15 11:06:03 -0400 (Tue, 15 Jul 2025) EllapsedTime: 60.5 seconds RetCode: 0 Status: OK