Package: TimerQuant Version: 1.38.0 Command: /home/biocbuild/bbs-3.21-bioc/R/bin/R CMD build --keep-empty-dirs --no-resave-data TimerQuant StartedAt: 2025-07-10 11:42:34 -0400 (Thu, 10 Jul 2025) EndedAt: 2025-07-10 11:43:28 -0400 (Thu, 10 Jul 2025) EllapsedTime: 54.2 seconds RetCode: 0 Status: OK PackageFile: TimerQuant_1.38.0.tar.gz PackageFileSize: 1.746 MiB