Package: VectraPolarisData Version: 1.12.0 Command: /home/biocbuild/bbs-3.21-bioc/R/bin/R CMD build --keep-empty-dirs --no-resave-data VectraPolarisData StartedAt: 2025-07-10 11:43:56 -0400 (Thu, 10 Jul 2025) EndedAt: 2025-07-10 11:45:32 -0400 (Thu, 10 Jul 2025) EllapsedTime: 96.1 seconds RetCode: 0 Status: OK PackageFile: VectraPolarisData_1.12.0.tar.gz PackageFileSize: 794.1 KiB