Package: VectraPolarisData Version: 1.12.0 Command: /home/biocbuild/bbs-3.21-bioc/R/bin/R CMD INSTALL VectraPolarisData StartedAt: 2025-07-10 11:01:29 -0400 (Thu, 10 Jul 2025) EndedAt: 2025-07-10 11:01:59 -0400 (Thu, 10 Jul 2025) EllapsedTime: 29.7 seconds RetCode: 0 Status: OK