Package: beadarrayExampleData Version: 1.46.0 Command: /home/biocbuild/bbs-3.21-bioc/R/bin/R CMD check --install=check:beadarrayExampleData.install-out.txt --library=/home/biocbuild/bbs-3.21-bioc/R/site-library --timings beadarrayExampleData_1.46.0.tar.gz StartedAt: 2025-07-10 11:58:16 -0400 (Thu, 10 Jul 2025) EndedAt: 2025-07-10 11:59:47 -0400 (Thu, 10 Jul 2025) EllapsedTime: 90.6 seconds RetCode: 0 Status: OK CheckDir: beadarrayExampleData.Rcheck Warnings: 0