Package: beadarrayExampleData Version: 1.46.0 Command: /home/biocbuild/bbs-3.21-bioc/R/bin/R CMD INSTALL beadarrayExampleData StartedAt: 2025-07-10 10:58:29 -0400 (Thu, 10 Jul 2025) EndedAt: 2025-07-10 10:58:39 -0400 (Thu, 10 Jul 2025) EllapsedTime: 10.0 seconds RetCode: 0 Status: OK