Package: bladderbatch Version: 1.46.0 Command: /home/biocbuild/bbs-3.21-bioc/R/bin/R CMD build --keep-empty-dirs --no-resave-data bladderbatch StartedAt: 2025-07-15 11:06:41 -0400 (Tue, 15 Jul 2025) EndedAt: 2025-07-15 11:06:47 -0400 (Tue, 15 Jul 2025) EllapsedTime: 6.3 seconds RetCode: 0 Status: OK PackageFile: bladderbatch_1.46.0.tar.gz PackageFileSize: 9.197 MiB