Package: blimaTestingData Version: 1.28.0 Command: /home/biocbuild/bbs-3.21-bioc/R/bin/R CMD INSTALL blimaTestingData StartedAt: 2025-07-15 10:55:22 -0400 (Tue, 15 Jul 2025) EndedAt: 2025-07-15 10:55:24 -0400 (Tue, 15 Jul 2025) EllapsedTime: 1.6 seconds RetCode: 0 Status: OK