Package: cfToolsData Version: 1.6.0 Command: /home/biocbuild/bbs-3.21-bioc/R/bin/R CMD build --keep-empty-dirs --no-resave-data cfToolsData StartedAt: 2025-10-16 11:08:07 -0400 (Thu, 16 Oct 2025) EndedAt: 2025-10-16 11:08:39 -0400 (Thu, 16 Oct 2025) EllapsedTime: 32.0 seconds RetCode: 0 Status: OK PackageFile: cfToolsData_1.6.0.tar.gz PackageFileSize: 413 KiB