Package: cfToolsData Version: 1.6.0 Command: /home/biocbuild/bbs-3.21-bioc/R/bin/R CMD INSTALL cfToolsData StartedAt: 2025-10-16 10:57:26 -0400 (Thu, 16 Oct 2025) EndedAt: 2025-10-16 10:57:39 -0400 (Thu, 16 Oct 2025) EllapsedTime: 13.2 seconds RetCode: 0 Status: OK