Package: chipseqDBData Version: 1.24.0 Command: /home/biocbuild/bbs-3.21-bioc/R/bin/R CMD build --keep-empty-dirs --no-resave-data chipseqDBData StartedAt: 2025-07-15 11:08:28 -0400 (Tue, 15 Jul 2025) EndedAt: 2025-07-15 11:09:39 -0400 (Tue, 15 Jul 2025) EllapsedTime: 71.2 seconds RetCode: 0 Status: OK PackageFile: chipseqDBData_1.24.0.tar.gz PackageFileSize: 300.9 KiB