Package: chipseqDBData Version: 1.24.0 Command: /home/biocbuild/bbs-3.21-bioc/R/bin/R CMD INSTALL chipseqDBData StartedAt: 2025-07-15 11:01:47 -0400 (Tue, 15 Jul 2025) EndedAt: 2025-07-15 11:02:02 -0400 (Tue, 15 Jul 2025) EllapsedTime: 15.7 seconds RetCode: 0 Status: OK