Package: clustifyrdatahub Version: 1.18.0 Command: /home/biocbuild/bbs-3.21-bioc/R/bin/R CMD build --keep-empty-dirs --no-resave-data clustifyrdatahub StartedAt: 2025-07-10 11:09:08 -0400 (Thu, 10 Jul 2025) EndedAt: 2025-07-10 11:09:45 -0400 (Thu, 10 Jul 2025) EllapsedTime: 37.8 seconds RetCode: 0 Status: OK PackageFile: clustifyrdatahub_1.18.0.tar.gz PackageFileSize: 299.9 KiB