Package: clustifyrdatahub Version: 1.18.0 Command: /home/biocbuild/bbs-3.21-bioc/R/bin/R CMD INSTALL clustifyrdatahub StartedAt: 2025-07-10 10:57:19 -0400 (Thu, 10 Jul 2025) EndedAt: 2025-07-10 10:57:31 -0400 (Thu, 10 Jul 2025) EllapsedTime: 12.8 seconds RetCode: 0 Status: OK