Package: curatedAdipoArray Version: 1.20.0 Command: /home/biocbuild/bbs-3.21-bioc/R/bin/R CMD INSTALL curatedAdipoArray StartedAt: 2025-07-15 10:55:11 -0400 (Tue, 15 Jul 2025) EndedAt: 2025-07-15 10:55:13 -0400 (Tue, 15 Jul 2025) EllapsedTime: 1.7 seconds RetCode: 0 Status: OK