Package: curatedPCaData Version: 1.4.0 Command: /home/biocbuild/bbs-3.21-bioc/R/bin/R CMD build --keep-empty-dirs --no-resave-data curatedPCaData StartedAt: 2025-10-16 11:11:22 -0400 (Thu, 16 Oct 2025) EndedAt: 2025-10-16 11:18:19 -0400 (Thu, 16 Oct 2025) EllapsedTime: 416.7 seconds RetCode: 0 Status: OK PackageFile: curatedPCaData_1.4.0.tar.gz PackageFileSize: 2.936 MiB