Package: easierData Version: 1.14.0 Command: /home/biocbuild/bbs-3.21-bioc/R/bin/R CMD build --keep-empty-dirs --no-resave-data easierData StartedAt: 2025-10-16 11:14:42 -0400 (Thu, 16 Oct 2025) EndedAt: 2025-10-16 11:15:30 -0400 (Thu, 16 Oct 2025) EllapsedTime: 48.1 seconds RetCode: 0 Status: OK PackageFile: easierData_1.14.0.tar.gz PackageFileSize: 408.2 KiB