Package: ffpeExampleData Version: 1.46.0 Command: /home/biocbuild/bbs-3.21-bioc/R/bin/R CMD INSTALL ffpeExampleData StartedAt: 2025-07-10 11:04:11 -0400 (Thu, 10 Jul 2025) EndedAt: 2025-07-10 11:04:41 -0400 (Thu, 10 Jul 2025) EllapsedTime: 30.5 seconds RetCode: 0 Status: OK