Package: flowWorkspaceData Version: 3.20.0 Command: /home/biocbuild/bbs-3.21-bioc/R/bin/R CMD build --keep-empty-dirs --no-resave-data flowWorkspaceData StartedAt: 2025-07-10 11:16:57 -0400 (Thu, 10 Jul 2025) EndedAt: 2025-07-10 11:17:12 -0400 (Thu, 10 Jul 2025) EllapsedTime: 15.0 seconds RetCode: 0 Status: OK PackageFile: flowWorkspaceData_3.20.0.tar.gz PackageFileSize: 71.15 MiB