Package: flowWorkspaceData Version: 3.20.0 Command: /home/biocbuild/bbs-3.21-bioc/R/bin/R CMD INSTALL flowWorkspaceData StartedAt: 2025-07-10 10:55:35 -0400 (Thu, 10 Jul 2025) EndedAt: 2025-07-10 10:55:38 -0400 (Thu, 10 Jul 2025) EllapsedTime: 2.9 seconds RetCode: 0 Status: OK