Package: frmaExampleData Version: 1.44.0 Command: /home/biocbuild/bbs-3.21-bioc/R/bin/R CMD build --keep-empty-dirs --no-resave-data frmaExampleData StartedAt: 2025-07-15 11:17:43 -0400 (Tue, 15 Jul 2025) EndedAt: 2025-07-15 11:17:47 -0400 (Tue, 15 Jul 2025) EllapsedTime: 4.4 seconds RetCode: 0 Status: OK PackageFile: frmaExampleData_1.44.0.tar.gz PackageFileSize: 15.88 MiB