Package: frmaExampleData Version: 1.44.0 Command: /home/biocbuild/bbs-3.21-bioc/R/bin/R CMD INSTALL frmaExampleData StartedAt: 2025-07-15 10:55:29 -0400 (Tue, 15 Jul 2025) EndedAt: 2025-07-15 10:55:32 -0400 (Tue, 15 Jul 2025) EllapsedTime: 3.8 seconds RetCode: 0 Status: OK