Package: geneLenDataBase Version: 1.44.0 Command: /home/biocbuild/bbs-3.21-bioc/R/bin/R CMD INSTALL geneLenDataBase StartedAt: 2025-07-15 11:02:25 -0400 (Tue, 15 Jul 2025) EndedAt: 2025-07-15 11:03:42 -0400 (Tue, 15 Jul 2025) EllapsedTime: 76.3 seconds RetCode: 0 Status: OK