Package: hapmap100khind Version: 1.50.0 Command: /home/biocbuild/bbs-3.21-bioc/R/bin/R CMD build --keep-empty-dirs --no-resave-data hapmap100khind StartedAt: 2025-07-10 11:19:07 -0400 (Thu, 10 Jul 2025) EndedAt: 2025-07-10 11:20:05 -0400 (Thu, 10 Jul 2025) EllapsedTime: 57.6 seconds RetCode: 0 Status: OK PackageFile: hapmap100khind_1.50.0.tar.gz PackageFileSize: 38.05 MiB