Package: hapmap100khind Version: 1.50.0 Command: /home/biocbuild/bbs-3.21-bioc/R/bin/R CMD INSTALL hapmap100khind StartedAt: 2025-07-10 10:55:39 -0400 (Thu, 10 Jul 2025) EndedAt: 2025-07-10 10:55:43 -0400 (Thu, 10 Jul 2025) EllapsedTime: 3.7 seconds RetCode: 0 Status: OK