Package: hapmap500knsp Version: 1.50.0 Command: /home/biocbuild/bbs-3.21-bioc/R/bin/R CMD build --keep-empty-dirs --no-resave-data hapmap500knsp StartedAt: 2025-07-15 11:19:10 -0400 (Tue, 15 Jul 2025) EndedAt: 2025-07-15 11:21:51 -0400 (Tue, 15 Jul 2025) EllapsedTime: 160.6 seconds RetCode: 0 Status: OK PackageFile: hapmap500knsp_1.50.0.tar.gz PackageFileSize: 80.39 MiB