Package: hapmap500knsp Version: 1.50.0 Command: /home/biocbuild/bbs-3.21-bioc/R/bin/R CMD INSTALL hapmap500knsp StartedAt: 2025-07-15 10:55:35 -0400 (Tue, 15 Jul 2025) EndedAt: 2025-07-15 10:55:37 -0400 (Tue, 15 Jul 2025) EllapsedTime: 2.5 seconds RetCode: 0 Status: OK