Package: hapmap500ksty Version: 1.50.0 Command: /home/biocbuild/bbs-3.21-bioc/R/bin/R CMD build --keep-empty-dirs --no-resave-data hapmap500ksty StartedAt: 2025-10-16 11:19:29 -0400 (Thu, 16 Oct 2025) EndedAt: 2025-10-16 11:22:04 -0400 (Thu, 16 Oct 2025) EllapsedTime: 155.2 seconds RetCode: 0 Status: OK PackageFile: hapmap500ksty_1.50.0.tar.gz PackageFileSize: 77.63 MiB