Package: hapmapsnp6 Version: 1.50.0 Command: /home/biocbuild/bbs-3.21-bioc/R/bin/R CMD build --keep-empty-dirs --no-resave-data hapmapsnp6 StartedAt: 2025-10-16 11:19:41 -0400 (Thu, 16 Oct 2025) EndedAt: 2025-10-16 11:23:49 -0400 (Thu, 16 Oct 2025) EllapsedTime: 247.6 seconds RetCode: 0 Status: OK PackageFile: hapmapsnp6_1.50.0.tar.gz PackageFileSize: 263.2 MiB