Package: hapmapsnp6 Version: 1.50.0 Command: /home/biocbuild/bbs-3.21-bioc/R/bin/R CMD INSTALL hapmapsnp6 StartedAt: 2025-10-16 10:55:25 -0400 (Thu, 16 Oct 2025) EndedAt: 2025-10-16 10:55:50 -0400 (Thu, 16 Oct 2025) EllapsedTime: 25.0 seconds RetCode: 0 Status: OK