Package: hgu133plus2CellScore Version: 1.28.0 Command: /home/biocbuild/bbs-3.21-bioc/R/bin/R CMD INSTALL hgu133plus2CellScore StartedAt: 2025-10-16 10:56:41 -0400 (Thu, 16 Oct 2025) EndedAt: 2025-10-16 10:57:02 -0400 (Thu, 16 Oct 2025) EllapsedTime: 21.3 seconds RetCode: 0 Status: OK