Package: imcdatasets Version: 1.16.0 Command: /home/biocbuild/bbs-3.21-bioc/R/bin/R CMD build --keep-empty-dirs --no-resave-data imcdatasets StartedAt: 2025-07-10 11:23:32 -0400 (Thu, 10 Jul 2025) EndedAt: 2025-07-10 11:25:57 -0400 (Thu, 10 Jul 2025) EllapsedTime: 145.8 seconds RetCode: 0 Status: OK PackageFile: imcdatasets_1.16.0.tar.gz PackageFileSize: 1.629 MiB